BEGIN:VCALENDAR
VERSION:2.0
PRODID:-//STADTKULTUR HAMBURG//kultur-hamburg.de///DE
CALSCALE:GREGORIAN
BEGIN:VEVENT
X-WR-TIMEZONE:Europe/Berlin
DTSTART:20140121T090000
DTEND:20140121T103000
LOCATION:Bramfelder Kulturladen e. V. - BRAKULA \, Bramfelder Chaussee 265 \, 22177 Hamburg
DTSTAMP:20260422T124426
SUMMARY:Qi-Gong - Die 8 Brokate
URL;VALUE=URI:https://www.kultur-hamburg.de/kurse_workshops/qi-gong-die-8-brokate-149194
DESCRIPTION:Qi-Gong ist eine alte chinesische Bewegungskunst bei der Körper und Geist zusammengebracht werden.
Kursleitung: Claudia Röttgers-Blank
UID:cece8823757bac67dab2b3d930aebbc2@kulturhamburg
END:VEVENT
END:VCALENDAR