BEGIN:VCALENDAR
VERSION:2.0
PRODID:-//STADTKULTUR HAMBURG//kultur-hamburg.de///DE
CALSCALE:GREGORIAN
BEGIN:VEVENT
X-WR-TIMEZONE:Europe/Berlin
DTSTART:20140318T090000
DTEND:20140318T103000
LOCATION:Bramfelder Kulturladen e. V. - BRAKULA \, Bramfelder Chaussee 265 \, 22177 Hamburg
DTSTAMP:20260423T015722
SUMMARY:Qi-Gong - Die 8 Brokate
URL;VALUE=URI:https://www.kultur-hamburg.de/kurse_workshops/qi-gong-die-8-brokate-149202
DESCRIPTION:Qi-Gong ist eine alte chinesische Bewegungskunst bei der Körper und Geist zusammengebracht werden.
Kursleitung: Claudia Röttgers-Blank
UID:a048ae606f822fbcc7b8d911f0c6c636@kulturhamburg
END:VEVENT
END:VCALENDAR