BEGIN:VCALENDAR
VERSION:2.0
PRODID:-//STADTKULTUR HAMBURG//kultur-hamburg.de///DE
CALSCALE:GREGORIAN
BEGIN:VEVENT
X-WR-TIMEZONE:Europe/Berlin
DTSTART:20190824T150000
DTEND:20190824T160000
LOCATION:MOTTE VERANSTALTUNGEN \, Rothestraße 48 \, 22765 Hamburg
DTSTAMP:20260420T074524
SUMMARY:KinderTheater: "Der Zauberer von OZ"
URL;VALUE=URI:https://www.kultur-hamburg.de/veranstaltungen/kindertheater-der-zauberer-von-oz-149493
DESCRIPTION:Wegen Krankheit leider abgesagt !!
UID:2b5c95d6f5d96bcf8419ec361c363440@kulturhamburg
END:VEVENT
END:VCALENDAR