BEGIN:VCALENDAR
VERSION:2.0
PRODID:-//STADTKULTUR HAMBURG//kultur-hamburg.de///DE
CALSCALE:GREGORIAN
BEGIN:VEVENT
X-WR-TIMEZONE:Europe/Berlin
DTSTART:20140211T193000
DTEND:20140527T213000
LOCATION:Lichthof Theater \, Mendelssohnstraße 15 \, 22761 Hamburg
DTSTAMP:20260422T173042
SUMMARY:Improvisationstheater für zart Fortgeschrittene
URL;VALUE=URI:https://www.kultur-hamburg.de/kurse_workshops/improvisationstheater-fuer-zart-fortgeschrittene-149690
DESCRIPTION:Impro Theater Kurs
UID:757d0ff16880be451845b6b1fec50659@kulturhamburg
END:VEVENT
END:VCALENDAR