BEGIN:VCALENDAR
VERSION:2.0
PRODID:-//STADTKULTUR HAMBURG//kultur-hamburg.de///DE
CALSCALE:GREGORIAN
BEGIN:VEVENT
X-WR-TIMEZONE:Europe/Berlin
DTSTART:20140218T193000
DTEND:20140603T213000
LOCATION:Lichthof Theater \, Mendelssohnstraße 15 \, 22761 Hamburg
DTSTAMP:20260422T190706
SUMMARY:Improvisationstheater für zart Fortgeschrittene
URL;VALUE=URI:https://www.kultur-hamburg.de/kurse_workshops/improvisationstheater-fuer-zart-fortgeschrittene-149691
DESCRIPTION:Impro Theater Kurs
UID:e576f24661ad6b537c901b78ab7bc478@kulturhamburg
END:VEVENT
END:VCALENDAR