BEGIN:VCALENDAR
VERSION:2.0
PRODID:-//STADTKULTUR HAMBURG//kultur-hamburg.de///DE
CALSCALE:GREGORIAN
BEGIN:VEVENT
X-WR-TIMEZONE:Europe/Berlin
DTSTART:20140318T193000
DTEND:20140701T213000
LOCATION:Lichthof Theater \, Mendelssohnstraße 15 \, 22761 Hamburg
DTSTAMP:20260423T015753
SUMMARY:Improvisationstheater für zart Fortgeschrittene
URL;VALUE=URI:https://www.kultur-hamburg.de/kurse_workshops/improvisationstheater-fuer-zart-fortgeschrittene-149695
DESCRIPTION:Impro Theater Kurs
UID:e60282dbe56a1b81e16a1b3f9983214d@kulturhamburg
END:VEVENT
END:VCALENDAR