BEGIN:VCALENDAR
VERSION:2.0
PRODID:-//STADTKULTUR HAMBURG//kultur-hamburg.de///DE
CALSCALE:GREGORIAN
BEGIN:VEVENT
X-WR-TIMEZONE:Europe/Berlin
DTSTART:20140408T193000
DTEND:20140722T213000
LOCATION:Lichthof Theater \, Mendelssohnstraße 15 \, 22761 Hamburg
DTSTAMP:20260423T071847
SUMMARY:Improvisationstheater für zart Fortgeschrittene
URL;VALUE=URI:https://www.kultur-hamburg.de/kurse_workshops/improvisationstheater-fuer-zart-fortgeschrittene-149698
DESCRIPTION:Impro Theater Kurs
UID:69701d9f8eac09e235ca2e99127673ed@kulturhamburg
END:VEVENT
END:VCALENDAR