BEGIN:VCALENDAR
VERSION:2.0
PRODID:-//STADTKULTUR HAMBURG//kultur-hamburg.de///DE
CALSCALE:GREGORIAN
BEGIN:VEVENT
X-WR-TIMEZONE:Europe/Berlin
DTSTART:20140513T193000
DTEND:20140826T213000
LOCATION:Lichthof Theater \, Mendelssohnstraße 15 \, 22761 Hamburg
DTSTAMP:20260423T155330
SUMMARY:Improvisationstheater für zart Fortgeschrittene
URL;VALUE=URI:https://www.kultur-hamburg.de/kurse_workshops/improvisationstheater-fuer-zart-fortgeschrittene-149703
DESCRIPTION:Impro Theater Kurs
UID:f2d74f34d3cff71521d9f873be091122@kulturhamburg
END:VEVENT
END:VCALENDAR