BEGIN:VCALENDAR
VERSION:2.0
PRODID:-//STADTKULTUR HAMBURG//kultur-hamburg.de///DE
CALSCALE:GREGORIAN
BEGIN:VEVENT
X-WR-TIMEZONE:Europe/Berlin
DTSTART:20140219T193000
DTEND:20140521T213000
LOCATION:MOTTE \, Eulenstraße 43 \, 22765 Hamburg
DTSTAMP:20260422T190653
SUMMARY:Improvisationstheater Kurs
URL;VALUE=URI:https://www.kultur-hamburg.de/kurse_workshops/improvisationstheater-kurs-149707
DESCRIPTION:Impro Theater Kurs
UID:8ea054ace5d4dcf2f2c10771fbe9a299@kulturhamburg
END:VEVENT
END:VCALENDAR