BEGIN:VCALENDAR
VERSION:2.0
PRODID:-//STADTKULTUR HAMBURG//kultur-hamburg.de///DE
CALSCALE:GREGORIAN
BEGIN:VEVENT
X-WR-TIMEZONE:Europe/Berlin
DTSTART:20140319T193000
DTEND:20140618T213000
LOCATION:MOTTE \, Eulenstraße 43 \, 22765 Hamburg
DTSTAMP:20260423T015814
SUMMARY:Improvisationstheater Kurs
URL;VALUE=URI:https://www.kultur-hamburg.de/kurse_workshops/improvisationstheater-kurs-149711
DESCRIPTION:Impro Theater Kurs
UID:b0c20461d45d46f6df8f78b751f8a54a@kulturhamburg
END:VEVENT
END:VCALENDAR