BEGIN:VCALENDAR
VERSION:2.0
PRODID:-//STADTKULTUR HAMBURG//kultur-hamburg.de///DE
CALSCALE:GREGORIAN
BEGIN:VEVENT
X-WR-TIMEZONE:Europe/Berlin
DTSTART:20140326T193000
DTEND:20140625T213000
LOCATION:MOTTE \, Eulenstraße 43 \, 22765 Hamburg
DTSTAMP:20260423T033941
SUMMARY:Improvisationstheater Kurs
URL;VALUE=URI:https://www.kultur-hamburg.de/kurse_workshops/improvisationstheater-kurs-149712
DESCRIPTION:Impro Theater Kurs
UID:0067d41838224029bd57543fbaed0174@kulturhamburg
END:VEVENT
END:VCALENDAR