BEGIN:VCALENDAR
VERSION:2.0
PRODID:-//STADTKULTUR HAMBURG//kultur-hamburg.de///DE
CALSCALE:GREGORIAN
BEGIN:VEVENT
X-WR-TIMEZONE:Europe/Berlin
DTSTART:20140402T193000
DTEND:20140702T213000
LOCATION:MOTTE \, Eulenstraße 43 \, 22765 Hamburg
DTSTAMP:20260423T053014
SUMMARY:Improvisationstheater Kurs
URL;VALUE=URI:https://www.kultur-hamburg.de/kurse_workshops/improvisationstheater-kurs-149713
DESCRIPTION:Impro Theater Kurs
UID:cba340265709232e52a2058fd5fd30d5@kulturhamburg
END:VEVENT
END:VCALENDAR