BEGIN:VCALENDAR
VERSION:2.0
PRODID:-//STADTKULTUR HAMBURG//kultur-hamburg.de///DE
CALSCALE:GREGORIAN
BEGIN:VEVENT
X-WR-TIMEZONE:Europe/Berlin
DTSTART:20140409T193000
DTEND:20140709T213000
LOCATION:MOTTE \, Eulenstraße 43 \, 22765 Hamburg
DTSTAMP:20260423T072117
SUMMARY:Improvisationstheater Kurs
URL;VALUE=URI:https://www.kultur-hamburg.de/kurse_workshops/improvisationstheater-kurs-149714
DESCRIPTION:Impro Theater Kurs
UID:0f8e06039e7dd960e62e344e3e1ac56c@kulturhamburg
END:VEVENT
END:VCALENDAR