BEGIN:VCALENDAR
VERSION:2.0
PRODID:-//STADTKULTUR HAMBURG//kultur-hamburg.de///DE
CALSCALE:GREGORIAN
BEGIN:VEVENT
X-WR-TIMEZONE:Europe/Berlin
DTSTART:20140326T193000
DTEND:20140326T213000
LOCATION:Bramfelder Kulturladen e. V. - BRAKULA \, Bramfelder Chaussee 265 \, 22177 Hamburg
DTSTAMP:20260423T033807
SUMMARY:Zeichnen macht Spaß
URL;VALUE=URI:https://www.kultur-hamburg.de/kurse_workshops/zeichnen-macht-spass-150701
DESCRIPTION:Wir experimentieren mit dem Einsatz der Mittel und finden neue Lösungen. Material: Alles was spuren hinterlässt.
Kursleitung: Ralph König
UID:4efef95ec43858fb7a77de22a05c99fd@kulturhamburg
END:VEVENT
END:VCALENDAR