BEGIN:VCALENDAR
VERSION:2.0
PRODID:-//STADTKULTUR HAMBURG//kultur-hamburg.de///DE
CALSCALE:GREGORIAN
BEGIN:VEVENT
X-WR-TIMEZONE:Europe/Berlin
DTSTART:20140402T193000
DTEND:20140402T213000
LOCATION:Bramfelder Kulturladen e. V. - BRAKULA \, Bramfelder Chaussee 265 \, 22177 Hamburg
DTSTAMP:20260423T052838
SUMMARY:Zeichnen macht Spaß
URL;VALUE=URI:https://www.kultur-hamburg.de/kurse_workshops/zeichnen-macht-spass-150702
DESCRIPTION:Wir experimentieren mit dem Einsatz der Mittel und finden neue Lösungen. Material: Alles was spuren hinterlässt.
Kursleitung: Ralph König
UID:7843d59a8dedfdf7ffcc56e7fe5d8b28@kulturhamburg
END:VEVENT
END:VCALENDAR