BEGIN:VCALENDAR
VERSION:2.0
PRODID:-//STADTKULTUR HAMBURG//kultur-hamburg.de///DE
CALSCALE:GREGORIAN
BEGIN:VEVENT
X-WR-TIMEZONE:Europe/Berlin
DTSTART:20140416T193000
DTEND:20140416T213000
LOCATION:Bramfelder Kulturladen e. V. - BRAKULA \, Bramfelder Chaussee 265 \, 22177 Hamburg
DTSTAMP:20260423T091657
SUMMARY:Zeichnen macht Spaß
URL;VALUE=URI:https://www.kultur-hamburg.de/kurse_workshops/zeichnen-macht-spass-150704
DESCRIPTION:Wir experimentieren mit dem Einsatz der Mittel und finden neue Lösungen. Material: Alles was spuren hinterlässt.
Kursleitung: Ralph König
UID:1536c3038db6e8212c5b9d9ad6cbe7e0@kulturhamburg
END:VEVENT
END:VCALENDAR