BEGIN:VCALENDAR
VERSION:2.0
PRODID:-//STADTKULTUR HAMBURG//kultur-hamburg.de///DE
CALSCALE:GREGORIAN
BEGIN:VEVENT
X-WR-TIMEZONE:Europe/Berlin
DTSTART:20140428T090000
DTEND:20140430T120000
LOCATION:Ev. Familienbildung Niendorf-Lokstedt \, Lippertsche Villa/ Garstedter Weg 9 \, 22453 Hamburg
DTSTAMP:20260423T124401
SUMMARY:Ferienexperimentwerkstatt für Grundschüler
URL;VALUE=URI:https://www.kultur-hamburg.de/kurse_workshops/ferienexperimentwerkstatt-fuer-grundschueler-153500
DESCRIPTION:Spannende Fragen und altersgemäße Experimente begleiten uns durch die Vormittage.
UID:f4d0e88647c8f6a53738e930514d7aa6@kulturhamburg
END:VEVENT
END:VCALENDAR