BEGIN:VCALENDAR
VERSION:2.0
PRODID:-//STADTKULTUR HAMBURG//kultur-hamburg.de///DE
CALSCALE:GREGORIAN
BEGIN:VEVENT
X-WR-TIMEZONE:Europe/Berlin
DTSTART:20140429T090000
DTEND:20140501T120000
LOCATION:Ev. Familienbildung Niendorf-Lokstedt \, Lippertsche Villa/ Garstedter Weg 9 \, 22453 Hamburg
DTSTAMP:20260423T124324
SUMMARY:Ferienexperimentwerkstatt für Grundschüler
URL;VALUE=URI:https://www.kultur-hamburg.de/kurse_workshops/ferienexperimentwerkstatt-fuer-grundschueler-153501
DESCRIPTION:Spannende Fragen und altersgemäße Experimente begleiten uns durch die Vormittage.
UID:a4a8b0db457251782a68c1340f233fd8@kulturhamburg
END:VEVENT
END:VCALENDAR