BEGIN:VCALENDAR
VERSION:2.0
PRODID:-//STADTKULTUR HAMBURG//kultur-hamburg.de///DE
CALSCALE:GREGORIAN
BEGIN:VEVENT
X-WR-TIMEZONE:Europe/Berlin
DTSTART:20130826T193000
DTEND:20130826T223000
LOCATION:Ev. Familienbildung Niendorf-Lokstedt \, Lippertsche Villa/ Garstedter Weg 9 \, 22453 Hamburg
DTSTAMP:20260425T142649
SUMMARY:Man(n) nehme
URL;VALUE=URI:https://www.kultur-hamburg.de/kurse_workshops/mann-nehme-153619
DESCRIPTION:Männer treffen sich zum Kochen und Klönen und erleben einen Streifzug
durch internationale Speisekarten.
UID:51742c2494132376ac297f2294b8b13b@kulturhamburg
END:VEVENT
END:VCALENDAR