BEGIN:VCALENDAR
VERSION:2.0
PRODID:-//STADTKULTUR HAMBURG//kultur-hamburg.de///DE
CALSCALE:GREGORIAN
BEGIN:VEVENT
X-WR-TIMEZONE:Europe/Berlin
DTSTART:20131014T093000
DTEND:20131014T120000
LOCATION:Ev. Familienbildung Blankenese \, Sülldorfer Kirchenweg 1b \, 22587 Hamburg
DTSTAMP:20260423T015855
SUMMARY:Malfreu(n)de experimentieren mit Pigmenten
URL;VALUE=URI:https://www.kultur-hamburg.de/kurse_workshops/malfreunde-experimentieren-mit-pigmenten-153637
DESCRIPTION:Wir wollen uns unter anderem mit der Herstellung von eigener Ölfarbe mit Pigmenten beschäftigen.
UID:19e619b30d2793bdcc0424c602d2b977@kulturhamburg
END:VEVENT
END:VCALENDAR