BEGIN:VCALENDAR
VERSION:2.0
PRODID:-//STADTKULTUR HAMBURG//kultur-hamburg.de///DE
CALSCALE:GREGORIAN
BEGIN:VEVENT
X-WR-TIMEZONE:Europe/Berlin
DTSTART:20140319T180000
DTEND:20140319T193000
LOCATION:Ev. Familienbildung Harburg \, Hölertwiete 5 \, 21073 Hamburg
DTSTAMP:20260423T015854
SUMMARY:Lesekreis
URL;VALUE=URI:https://www.kultur-hamburg.de/kurse_workshops/lesekreis-153664
DESCRIPTION:Lesen Sie gern und möchten sich mit anderen darüber austauschen? Im Lesekreis ist Ausgangspunkt die eigene Erfahrung.
UID:9187dd685528e868fc6869734aab1c99@kulturhamburg
END:VEVENT
END:VCALENDAR