BEGIN:VCALENDAR
VERSION:2.0
PRODID:-//STADTKULTUR HAMBURG//kultur-hamburg.de///DE
CALSCALE:GREGORIAN
BEGIN:VEVENT
X-WR-TIMEZONE:Europe/Berlin
DTSTART:20140325T200000
DTEND:20140325T220000
LOCATION:Ev. Familienbildung Hamm-Horn \, Bei der Hammer Kirche 16 \, 20535 Hamburg
DTSTAMP:20260423T033950
SUMMARY:Sicheres Auftreten - ein Präsenztraining
URL;VALUE=URI:https://www.kultur-hamburg.de/kurse_workshops/sicheres-auftreten-ein-praesenztraining-153677
DESCRIPTION:Wie wirke ich - wie möchte ich wirken - wie kann ich die gewünschte Wirkung erreichen?
UID:418c13a7314b60cb98f21942c8dc69c1@kulturhamburg
END:VEVENT
END:VCALENDAR