BEGIN:VCALENDAR
VERSION:2.0
PRODID:-//STADTKULTUR HAMBURG//kultur-hamburg.de///DE
CALSCALE:GREGORIAN
BEGIN:VEVENT
X-WR-TIMEZONE:Europe/Berlin
DTSTART:20140408T170000
DTEND:20140408T200000
LOCATION:Ev. Familienbildung Eppendorf \, Loogeplatz 14/16 \, 20249 Hamburg
DTSTAMP:20260423T072143
SUMMARY:Collagen aus Stoff, Steinen, Blättern, Haaren...
URL;VALUE=URI:https://www.kultur-hamburg.de/kurse_workshops/collagen-aus-stoff-steinen-blaettern-haaren...-153681
DESCRIPTION:Eine Collage gestalten nach einem Foto. Zum Beispiel ein Selbstportrait oder das Portrait einer anderen Person.
UID:eb733e0e971c8a2e602e550a758c09c4@kulturhamburg
END:VEVENT
END:VCALENDAR