BEGIN:VCALENDAR
VERSION:2.0
PRODID:-//STADTKULTUR HAMBURG//kultur-hamburg.de///DE
CALSCALE:GREGORIAN
BEGIN:VEVENT
X-WR-TIMEZONE:Europe/Berlin
DTSTART:20140528T173000
DTEND:20140604T190000
LOCATION:Ev. Familienbildung Harburg \, Hölertwiete 5 \, 21073 Hamburg
DTSTAMP:20260423T192003
SUMMARY:Fotobearbeitung für Einsteiger - Für Erwachsene und Jugendliche ab 15 Jahren
URL;VALUE=URI:https://www.kultur-hamburg.de/kurse_workshops/fotobearbeitung-fuer-einsteiger-fuer-erwachsene-und-jugendliche-ab-15-jahren-155750
DESCRIPTION:Bilder von der Kamera auf den PC laden, Bilder organisieren, Größe ändern, rote Augen entfernen.
UID:ac82f92a76529b8058a980ae807035ba@kulturhamburg
END:VEVENT
END:VCALENDAR