BEGIN:VCALENDAR
VERSION:2.0
PRODID:-//STADTKULTUR HAMBURG//kultur-hamburg.de///DE
CALSCALE:GREGORIAN
BEGIN:VEVENT
X-WR-TIMEZONE:Europe/Berlin
DTSTART:20140710T100000
DTEND:20140713T120000
LOCATION:Lola Rogge Schule \, Landwehr 11-13 \, 22087 Hamburg
DTSTAMP:20260424T043419
SUMMARY:Sommertanztage und Aufnahmeprüfung 10. - 13. Juli 2014
URL;VALUE=URI:https://www.kultur-hamburg.de/kurse_workshops/sommertanztage-und-aufnahmepruefung-10.-13.-juli-2014-156559
DESCRIPTION:
UID:b22ae63bcb008355dc648fb2c559e8e2@kulturhamburg
END:VEVENT
END:VCALENDAR