BEGIN:VCALENDAR
VERSION:2.0
PRODID:-//STADTKULTUR HAMBURG//kultur-hamburg.de///DE
CALSCALE:GREGORIAN
BEGIN:VEVENT
X-WR-TIMEZONE:Europe/Berlin
DTSTART:20140520T113000
DTEND:20140624T130000
LOCATION:Ev. Familienbildung Eppendorf \, Loogeplatz 14/16 \, 20249 Hamburg
DTSTAMP:20260423T174259
SUMMARY:Time to Change - Die stärkste Frau der Welt
URL;VALUE=URI:https://www.kultur-hamburg.de/kurse_workshops/time-to-change-die-staerkste-frau-der-welt-157113
DESCRIPTION:Die Sonnenstrahlen tanzen in deinem Gesicht. Du spürst den Frühling und das neue Leben um dich herum. Jetzt möchtest du auch wieder zeigen, wer DU bist. Dich wieder spüren und dich leben dürfen!
UID:4d103b07161d5976bd32395b12443ce2@kulturhamburg
END:VEVENT
END:VCALENDAR