BEGIN:VCALENDAR
VERSION:2.0
PRODID:-//STADTKULTUR HAMBURG//kultur-hamburg.de///DE
CALSCALE:GREGORIAN
BEGIN:VEVENT
X-WR-TIMEZONE:Europe/Berlin
DTSTART:20140603T170000
DTEND:20140624T200000
LOCATION:Ev. Familienbildung Eppendorf \, Loogeplatz 14/16 \, 20249 Hamburg
DTSTAMP:20260423T203546
SUMMARY:Accessoires selber gestalten
URL;VALUE=URI:https://www.kultur-hamburg.de/kurse_workshops/accessoires-selber-gestalten-157121
DESCRIPTION:Färben, bemalen, bekleben, besticken, bedrucken und nähen. Mit verschiedenen Techniken kreieren wir unser individuelles Accessoire. Mit recyceln von Materialien werden vorhandene Sachen wieder zum Leben erweckt.
Bitte mitbringen: Stoffreste, Bastelperlen, Nähzubehör.
UID:0427edfb73b011834d2b056b81a025af@kulturhamburg
END:VEVENT
END:VCALENDAR