BEGIN:VCALENDAR
VERSION:2.0
PRODID:-//STADTKULTUR HAMBURG//kultur-hamburg.de///DE
CALSCALE:GREGORIAN
BEGIN:VEVENT
X-WR-TIMEZONE:Europe/Berlin
DTSTART:20140618T163000
DTEND:20140813T180000
LOCATION:TASK Schauspielschule für Kinder und Jugendliche \, Stresemannstraße 163 (Neue Flora) \, 22769 Hamburg
DTSTAMP:20260423T234413
SUMMARY:Neue Schauspiel-Kurse für Kinder & Jugendliche
URL;VALUE=URI:https://www.kultur-hamburg.de/kurse_workshops/neue-schauspiel-kurse-fuer-kinder-&-jugendliche-157736
DESCRIPTION:Die TASK Schauspielschule startet im Mai mit neuen Kursen für Kinder und Jugendliche  (8 - 10 und 10 - 12 J.). Kostenlose Schnupperstunden!
UID:01974dd05d4262f4ecaaa70284c0b598@kulturhamburg
END:VEVENT
END:VCALENDAR