BEGIN:VCALENDAR
VERSION:2.0
PRODID:-//STADTKULTUR HAMBURG//kultur-hamburg.de///DE
CALSCALE:GREGORIAN
BEGIN:VEVENT
X-WR-TIMEZONE:Europe/Berlin
DTSTART:20140702T163000
DTEND:20140827T180000
LOCATION:TASK Schauspielschule für Kinder und Jugendliche \, Stresemannstraße 163 (Neue Flora) \, 22769 Hamburg
DTSTAMP:20260424T031013
SUMMARY:Neue Schauspiel-Kurse für Kinder & Jugendliche
URL;VALUE=URI:https://www.kultur-hamburg.de/kurse_workshops/neue-schauspiel-kurse-fuer-kinder-&-jugendliche-157740
DESCRIPTION:Die TASK Schauspielschule startet im Mai mit neuen Kursen für Kinder und Jugendliche  (8 - 10 und 10 - 12 J.). Kostenlose Schnupperstunden!
UID:d34ad40d968142bc4ab0130735ab26f3@kulturhamburg
END:VEVENT
END:VCALENDAR