BEGIN:VCALENDAR
VERSION:2.0
PRODID:-//STADTKULTUR HAMBURG//kultur-hamburg.de///DE
CALSCALE:GREGORIAN
BEGIN:VEVENT
X-WR-TIMEZONE:Europe/Berlin
DTSTART:20140724T110000
DTEND:20140829T170000
LOCATION:TASK Schauspielschule für Kinder und Jugendliche \, Stresemannstraße 163 (Neue Flora) \, 22769 Hamburg
DTSTAMP:20260424T073313
SUMMARY:Ferien-Theater-Schauspiel-Workshops für Kinder & Jugendliche (7-18 J.) * TASK Hamburg
URL;VALUE=URI:https://www.kultur-hamburg.de/kurse_workshops/ferien-theater-schauspiel-workshops-fuer-kinder-&-jugendliche-7-18-j.--task-hamburg-157759
DESCRIPTION:Ob Schauspiel-ABC, Trickfilm-Special, Casting & Lampenfieber oder 'Wir drehen einen Film' - die TASK Schauspielschule bietet wieder ein vielseitiges Sommerferien-Programm für Kinder & Jugendliche in Hamburg an.
UID:93f36ac85f6b3eaba0f1695b2d790787@kulturhamburg
END:VEVENT
END:VCALENDAR