BEGIN:VCALENDAR
VERSION:2.0
PRODID:-//STADTKULTUR HAMBURG//kultur-hamburg.de///DE
CALSCALE:GREGORIAN
BEGIN:VEVENT
X-WR-TIMEZONE:Europe/Berlin
DTSTART:20140729T110000
DTEND:20140903T170000
LOCATION:TASK Schauspielschule für Kinder und Jugendliche \, Stresemannstraße 163 (Neue Flora) \, 22769 Hamburg
DTSTAMP:20260424T091819
SUMMARY:Ferien-Theater-Schauspiel-Workshops für Kinder & Jugendliche (7-18 J.) * TASK Hamburg
URL;VALUE=URI:https://www.kultur-hamburg.de/kurse_workshops/ferien-theater-schauspiel-workshops-fuer-kinder-&-jugendliche-7-18-j.--task-hamburg-157764
DESCRIPTION:Ob Schauspiel-ABC, Trickfilm-Special, Casting & Lampenfieber oder 'Wir drehen einen Film' - die TASK Schauspielschule bietet wieder ein vielseitiges Sommerferien-Programm für Kinder & Jugendliche in Hamburg an.
UID:c7a220ac0be4b5cef6e8d9afc5cb5ebc@kulturhamburg
END:VEVENT
END:VCALENDAR