BEGIN:VCALENDAR
VERSION:2.0
PRODID:-//STADTKULTUR HAMBURG//kultur-hamburg.de///DE
CALSCALE:GREGORIAN
BEGIN:VEVENT
X-WR-TIMEZONE:Europe/Berlin
DTSTART:20140705T100000
DTEND:20140705T160000
LOCATION:KulturKlinker Barmbek e.V. \, Lorichsstraße 28 a \, 22307 Hamburg
DTSTAMP:20260424T030955
SUMMARY:Wendepunkte – Workshop mit Jutta Kowalski
URL;VALUE=URI:https://www.kultur-hamburg.de/kurse_workshops/wendepunkte--workshop-mit-jutta-kowalski-158134
DESCRIPTION:Wendepunkte zwischen Abschied und Aufbruch – Ein Workshop für Menschen, die mit Veränderungen zu tun haben.
UID:6bfef678243db92ef0b26460affb8d8c@kulturhamburg
END:VEVENT
END:VCALENDAR