BEGIN:VCALENDAR
VERSION:2.0
PRODID:-//STADTKULTUR HAMBURG//kultur-hamburg.de///DE
CALSCALE:GREGORIAN
BEGIN:VEVENT
X-WR-TIMEZONE:Europe/Berlin
DTSTART:20140610T193000
DTEND:20140610T213000
LOCATION:Ev. Familienbildung Hamm-Horn \, Bei der Hammer Kirche 16 \, 20535 Hamburg
DTSTAMP:20260423T220728
SUMMARY:Schultüten
URL;VALUE=URI:https://www.kultur-hamburg.de/kurse_workshops/schultueten-158390
DESCRIPTION:Kein erster Schultag ohne Schultüte.
UID:b187d9566f221443f5438b2abd5e0591@kulturhamburg
END:VEVENT
END:VCALENDAR