BEGIN:VCALENDAR
VERSION:2.0
PRODID:-//STADTKULTUR HAMBURG//kultur-hamburg.de///DE
CALSCALE:GREGORIAN
BEGIN:VEVENT
X-WR-TIMEZONE:Europe/Berlin
DTSTART:20140626T200000
DTEND:20140815T210000
LOCATION:Ev. Familienbildung Harburg \, Hölertwiete 5 \, 21073 Hamburg
DTSTAMP:20260424T012320
SUMMARY:Zumba® - Tanzen Sie sich fit!
URL;VALUE=URI:https://www.kultur-hamburg.de/kurse_workshops/zumba-tanzen-sie-sich-fit!-158394
DESCRIPTION:Ein schweißtreibendes Fitnessprogramm zu lateinamerikanischer Musik.
UID:0b7efa0721f17b5382f422fc0ed73112@kulturhamburg
END:VEVENT
END:VCALENDAR