BEGIN:VCALENDAR
VERSION:2.0
PRODID:-//STADTKULTUR HAMBURG//kultur-hamburg.de///DE
CALSCALE:GREGORIAN
BEGIN:VEVENT
X-WR-TIMEZONE:Europe/Berlin
DTSTART:20140611T193000
DTEND:20140618T213000
LOCATION:Ev. Familienbildung Poppenbüttel \, Poppenbütteler Weg 97 \, 22399 Hamburg
DTSTAMP:20260423T220617
SUMMARY:Filzen - Thementage
URL;VALUE=URI:https://www.kultur-hamburg.de/kurse_workshops/filzen-thementage-158444
DESCRIPTION:An unseren Thementagen können Sie bereits gelernte Kenntnisse und Techniken ausbauen und verfeinern.
UID:c8d9997a0b967c5c4ddbb0bc12eb408e@kulturhamburg
END:VEVENT
END:VCALENDAR