BEGIN:VCALENDAR
VERSION:2.0
PRODID:-//STADTKULTUR HAMBURG//kultur-hamburg.de///DE
CALSCALE:GREGORIAN
BEGIN:VEVENT
X-WR-TIMEZONE:Europe/Berlin
DTSTART:20140617T170000
DTEND:20140624T190000
LOCATION:Ev. Familienbildung Blankenese \, Sülldorfer Kirchenweg 1b \, 22587 Hamburg
DTSTAMP:20260423T234352
SUMMARY:Babysitterführerschein
URL;VALUE=URI:https://www.kultur-hamburg.de/kurse_workshops/babysitterfuehrerschein-158450
DESCRIPTION:In diesem Wochenend-Kurs werdet ihr zum Babysitter ausgebildet.
UID:312ad087450e8813d136c6e9249684e9@kulturhamburg
END:VEVENT
END:VCALENDAR