BEGIN:VCALENDAR
VERSION:2.0
PRODID:-//STADTKULTUR HAMBURG//kultur-hamburg.de///DE
CALSCALE:GREGORIAN
BEGIN:VEVENT
X-WR-TIMEZONE:Europe/Berlin
DTSTART:20140614T160000
DTEND:20140614T180000
LOCATION:Elternschule Osdorf \, Bornheide 76c \, 22549 Hamburg
DTSTAMP:20260423T222017
SUMMARY:Schultüten — individuell und selbst gemacht!
URL;VALUE=URI:https://www.kultur-hamburg.de/kurse_workshops/schultueten-oe-individuell-und-selbst-gemacht!-158453
DESCRIPTION:Bald ist die Zeit der Einschulung und jedes Kind wünscht sich seine eigene, einzigartige Schultüte.
UID:3421b52bc1afba901226a7030848cab6@kulturhamburg
END:VEVENT
END:VCALENDAR