BEGIN:VCALENDAR
VERSION:2.0
PRODID:-//STADTKULTUR HAMBURG//kultur-hamburg.de///DE
CALSCALE:GREGORIAN
BEGIN:VEVENT
X-WR-TIMEZONE:Europe/Berlin
DTSTART:20140709T173000
DTEND:20140710T190000
LOCATION:Ev. Familienbildung Harburg \, Hölertwiete 5 \, 21073 Hamburg
DTSTAMP:20260424T043403
SUMMARY:Fotobearbeitung für Einsteiger für Erwachsene und Jugendliche ab 15 Jahren
URL;VALUE=URI:https://www.kultur-hamburg.de/kurse_workshops/fotobearbeitung-fuer-einsteiger-fuer-erwachsene-und-jugendliche-ab-15-jahren-159072
DESCRIPTION:Bilder von der Kamera auf den PC laden, Bilder organisieren, Größe ändern, rote Augen entfernen. Aufbaukurs nach Absprache möglich.
UID:a0c8deef08a6db03456a3f50dd73279b@kulturhamburg
END:VEVENT
END:VCALENDAR