BEGIN:VCALENDAR
VERSION:2.0
PRODID:-//STADTKULTUR HAMBURG//kultur-hamburg.de///DE
CALSCALE:GREGORIAN
BEGIN:VEVENT
X-WR-TIMEZONE:Europe/Berlin
DTSTART:20140714T100000
DTEND:20140715T130000
LOCATION:Ev. Familienbildung Poppenbüttel \, Poppenbütteler Weg 97 \, 22399 Hamburg
DTSTAMP:20260424T060054
SUMMARY:Ferienfotokurs für Kinder von 7 - 10 Jahren
URL;VALUE=URI:https://www.kultur-hamburg.de/kurse_workshops/ferienfotokurs-fuer-kinder-von-7-10-jahren-159076
DESCRIPTION:Ihr Kind besitzt schon eine eigene digitale Kamera, hat viel Spaß damit und fotografiert alles, was ihm vor die Linse kommt. Oder Ihr Kind besitzt eine Kamera, weiß aber noch nicht so ganz genau, wie sie funktioniert und möchte tolle Fotos machen.
UID:016d91cd77cd0ee64ecf37de1d51f75c@kulturhamburg
END:VEVENT
END:VCALENDAR