BEGIN:VCALENDAR
VERSION:2.0
PRODID:-//STADTKULTUR HAMBURG//kultur-hamburg.de///DE
CALSCALE:GREGORIAN
BEGIN:VEVENT
X-WR-TIMEZONE:Europe/Berlin
DTSTART:20140714T100000
DTEND:20140714T123000
LOCATION:Ev. Familienbildung Niendorf-Lokstedt \, Lippertsche Villa/ Garstedter Weg 9 \, 22453 Hamburg
DTSTAMP:20260424T060038
SUMMARY:Malen und Gestalten mit Holz - Workshop für Kinder von 6 - 8 Jahren
URL;VALUE=URI:https://www.kultur-hamburg.de/kurse_workshops/malen-und-gestalten-mit-holz-workshop-fuer-kinder-von-6-8-jahren-159078
DESCRIPTION:Endlich Ferien und Pause vom Lesen und Schreiben! Endlich Zeit, sich mal kreativ auszutoben. Wer hat Lust, einen halben Tag schöne Dinge aus Holz zu bearbeiten und zu verzaubern?
UID:0c9f1253b9c067b4559b33bcf13c47b5@kulturhamburg
END:VEVENT
END:VCALENDAR