BEGIN:VCALENDAR
VERSION:2.0
PRODID:-//STADTKULTUR HAMBURG//kultur-hamburg.de///DE
CALSCALE:GREGORIAN
BEGIN:VEVENT
X-WR-TIMEZONE:Europe/Berlin
DTSTART:20140731T100000
DTEND:20140731T140000
LOCATION:Hof \, Bert Kaempfert Platz/Museum der Arbeit \, 22305 Hamburg
DTSTAMP:20260424T091701
SUMMARY:Mit vollen Segeln - Wir bauen Segel-Windfahrzeuge
URL;VALUE=URI:https://www.kultur-hamburg.de/kurse_workshops/mit-vollen-segeln-wir-bauen-segel-windfahrzeuge-159989
DESCRIPTION:Ferienprojekt für Kinder von 8 – 12 Jahren. Montag bis Donnerstag und am Sa., 09.08. Anmeldung erforderlich!
UID:d1b5d2fabcad8eed2babf47522897f64@kulturhamburg
END:VEVENT
END:VCALENDAR