BEGIN:VCALENDAR
VERSION:2.0
PRODID:-//STADTKULTUR HAMBURG//kultur-hamburg.de///DE
CALSCALE:GREGORIAN
BEGIN:VEVENT
X-WR-TIMEZONE:Europe/Berlin
DTSTART:20150208T110000
DTEND:20150208T150000
LOCATION:TASK Schauspielschule für Kinder und Jugendliche \, Stresemannstraße 163 (Neue Flora) \, 22769 Hamburg
DTSTAMP:20260419T233551
SUMMARY:Live-Hörspiel * Workshop ab 6 J. * TASK Schauspielschule
URL;VALUE=URI:https://www.kultur-hamburg.de/kurse_workshops/live-hoerspiel--workshop-ab-6-j.--task-schauspielschule-174339
DESCRIPTION:Die Teilnehmer erwecken  eine Geschichte  in einem Live- Hörspiel zum Leben.
UID:40e2a821c9483a7a95708b59122d5c5d@kulturhamburg
END:VEVENT
END:VCALENDAR