BEGIN:VCALENDAR
VERSION:2.0
PRODID:-//STADTKULTUR HAMBURG//kultur-hamburg.de///DE
CALSCALE:GREGORIAN
BEGIN:VEVENT
X-WR-TIMEZONE:Europe/Berlin
DTSTART:20150108T103000
DTEND:20150108T120000
LOCATION:KulturWerkstatt Harburg e.V. \, Kanalplatz 6 \, 21079 Hamburg
DTSTAMP:20260420T063559
SUMMARY:Orientalischer Tanz
URL;VALUE=URI:https://www.kultur-hamburg.de/kurse_workshops/orientalischer-tanz-187426
DESCRIPTION:
UID:a72dc2319feeb9f5e9b36cee169261c9@kulturhamburg
END:VEVENT
END:VCALENDAR