BEGIN:VCALENDAR
VERSION:2.0
PRODID:-//STADTKULTUR HAMBURG//kultur-hamburg.de///DE
CALSCALE:GREGORIAN
BEGIN:VEVENT
X-WR-TIMEZONE:Europe/Berlin
DTSTART:20150122T103000
DTEND:20150122T120000
LOCATION:KulturWerkstatt Harburg e.V. \, Kanalplatz 6 \, 21079 Hamburg
DTSTAMP:20260420T030633
SUMMARY:Orientalischer Tanz
URL;VALUE=URI:https://www.kultur-hamburg.de/kurse_workshops/orientalischer-tanz-187428
DESCRIPTION:
UID:69cd1eba8862670b6a75c1ac8d9932a1@kulturhamburg
END:VEVENT
END:VCALENDAR