BEGIN:VCALENDAR
VERSION:2.0
PRODID:-//STADTKULTUR HAMBURG//kultur-hamburg.de///DE
CALSCALE:GREGORIAN
BEGIN:VEVENT
X-WR-TIMEZONE:Europe/Berlin
DTSTART:20150129T103000
DTEND:20150129T120000
LOCATION:KulturWerkstatt Harburg e.V. \, Kanalplatz 6 \, 21079 Hamburg
DTSTAMP:20260420T011221
SUMMARY:Orientalischer Tanz
URL;VALUE=URI:https://www.kultur-hamburg.de/kurse_workshops/orientalischer-tanz-187429
DESCRIPTION:
UID:81a8a5c1a47ca19a72baa5c9f68b6a21@kulturhamburg
END:VEVENT
END:VCALENDAR