BEGIN:VCALENDAR
VERSION:2.0
PRODID:-//STADTKULTUR HAMBURG//kultur-hamburg.de///DE
CALSCALE:GREGORIAN
BEGIN:VEVENT
X-WR-TIMEZONE:Europe/Berlin
DTSTART:20150305T103000
DTEND:20150305T120000
LOCATION:KulturWerkstatt Harburg e.V. \, Kanalplatz 6 \, 21079 Hamburg
DTSTAMP:20260419T170600
SUMMARY:Orientalischer Tanz
URL;VALUE=URI:https://www.kultur-hamburg.de/kurse_workshops/orientalischer-tanz-187434
DESCRIPTION:
UID:c4e7b6c49919a6abcdc0e0f8e3eaf972@kulturhamburg
END:VEVENT
END:VCALENDAR