BEGIN:VCALENDAR
VERSION:2.0
PRODID:-//STADTKULTUR HAMBURG//kultur-hamburg.de///DE
CALSCALE:GREGORIAN
BEGIN:VEVENT
X-WR-TIMEZONE:Europe/Berlin
DTSTART:20150123T190000
DTEND:20150123T203000
LOCATION:Lenzsiedlung e.V. \, Julius-Vosseler-Straße 193 \, 22527 Hamburg
DTSTAMP:20260420T030237
SUMMARY:Boxtraining
URL;VALUE=URI:https://www.kultur-hamburg.de/kurse_workshops/boxtraining-190176
DESCRIPTION:Fitnessboxen für Erwachsene von Frischling bis Alter Hase
UID:c870a773b2fe913f34dc2f872249c264@kulturhamburg
END:VEVENT
END:VCALENDAR