BEGIN:VCALENDAR
VERSION:2.0
PRODID:-//STADTKULTUR HAMBURG//kultur-hamburg.de///DE
CALSCALE:GREGORIAN
BEGIN:VEVENT
X-WR-TIMEZONE:Europe/Berlin
DTSTART:20150206T190000
DTEND:20150206T203000
LOCATION:Lenzsiedlung e.V. \, Julius-Vosseler-Straße 193 \, 22527 Hamburg
DTSTAMP:20260419T233800
SUMMARY:Boxtraining
URL;VALUE=URI:https://www.kultur-hamburg.de/kurse_workshops/boxtraining-190178
DESCRIPTION:Fitnessboxen für Erwachsene von Frischling bis Alter Hase
UID:275dfa152f7666626368c9b2d1f4a35e@kulturhamburg
END:VEVENT
END:VCALENDAR