BEGIN:VCALENDAR
VERSION:2.0
PRODID:-//STADTKULTUR HAMBURG//kultur-hamburg.de///DE
CALSCALE:GREGORIAN
BEGIN:VEVENT
X-WR-TIMEZONE:Europe/Berlin
DTSTART:20150220T190000
DTEND:20150220T203000
LOCATION:Lenzsiedlung e.V. \, Julius-Vosseler-Straße 193 \, 22527 Hamburg
DTSTAMP:20260419T201810
SUMMARY:Boxtraining
URL;VALUE=URI:https://www.kultur-hamburg.de/kurse_workshops/boxtraining-190180
DESCRIPTION:Fitnessboxen für Erwachsene von Frischling bis Alter Hase
UID:c5e761aee067dad4f22771ab36abcb6d@kulturhamburg
END:VEVENT
END:VCALENDAR