BEGIN:VCALENDAR
VERSION:2.0
PRODID:-//STADTKULTUR HAMBURG//kultur-hamburg.de///DE
CALSCALE:GREGORIAN
BEGIN:VEVENT
X-WR-TIMEZONE:Europe/Berlin
DTSTART:20150227T190000
DTEND:20150227T203000
LOCATION:Lenzsiedlung e.V. \, Julius-Vosseler-Straße 193 \, 22527 Hamburg
DTSTAMP:20260419T183814
SUMMARY:Boxtraining
URL;VALUE=URI:https://www.kultur-hamburg.de/kurse_workshops/boxtraining-190181
DESCRIPTION:Fitnessboxen für Erwachsene von Frischling bis Alter Hase
UID:db2e4fb2bbcfdaddfc5e920806e272a0@kulturhamburg
END:VEVENT
END:VCALENDAR